BEGIN:VCALENDAR
VERSION:2.0
PRODID:-//ChamberMaster//Event Calendar 2.0//EN
METHOD:PUBLISH
X-PUBLISHED-TTL:P3D
REFRESH-INTERVAL:P3D
CALSCALE:GREGORIAN
BEGIN:VEVENT
DTSTART:20160219T000000Z
DTEND:20160219T020000Z
X-MICROSOFT-CDO-ALLDAYEVENT:FALSE
SUMMARY:Leather Mask Making Class - Dare to Dabble
DESCRIPTION:18 yrs + \n\nDare to Dabble provides a monthly opportunity to learn how to make handcrafted leather projects. Each session participants will be able to choose a project. We provide all the tools and supplies and Mid America Leather Artist Guild will be here to provide resources and instruction on techniques. We believe in DOING to learn\, MAKING to be creative\, and EMBRACING mistakes to gain experience. This class needs to be paid in advance by January 14th.
X-ALT-DESC;FMTTYPE=text/html:<span style="font-size: 11pt\;"><span style="font-family: arial\,sans-serif\;"><span style="color: black\;">18&nbsp\;yrs +&nbsp\;</span></span></span><br />\n<span style="color: black\; font-family: &quot\;Arial&quot\;\,&quot\;sans-serif&quot\;\; font-size: 12pt\; mso-fareast-font-family: &quot\;Times New Roman&quot\;\; mso-ansi-language: EN-US\; mso-fareast-language: EN-US\; mso-bidi-language: AR-SA\;">Dare to Dabble provides a monthly opportunity to learn how to make handcrafted leather projects. Each session participants will be able to choose a project. We provide all the tools and supplies and Mid America Leather Artist Guild will be here to provide resources and instruction on techniques. We believe in DOING to learn\, MAKING to be creative\, and EMBRACING mistakes to gain experience. This class needs to be paid in advance by January 14th.</span>
LOCATION:Dare to Dabble 1329 Swift North Kansas City\, MO 64116
UID:e.211.4848
SEQUENCE:3
DTSTAMP:20260424T000744Z
URL:https://members.nkcbusinesscouncil.com/events/details/leather-mask-making-class-dare-to-dabble-02-18-2016-4848
END:VEVENT

END:VCALENDAR
