BEGIN:VCALENDAR
VERSION:2.0
PRODID:-//ChamberMaster//Event Calendar 2.0//EN
METHOD:PUBLISH
X-PUBLISHED-TTL:P3D
REFRESH-INTERVAL:P3D
CALSCALE:GREGORIAN
BEGIN:VEVENT
DTSTART:20160418T223000Z
DTEND:20160419T000000Z
X-MICROSOFT-CDO-ALLDAYEVENT:FALSE
SUMMARY:LEARN ABOUT GREEN SMOOTHIES
DESCRIPTION:Green smoothies can pack 12-15 servings of fruits and vegetables. Learn about the benefits of green smoothies and how to make one. Plus\, take home a set of recipes.
X-ALT-DESC;FMTTYPE=text/html:<span style="font-family: &quot\;Calibri&quot\;\,&quot\;sans-serif&quot\;\; font-size: 11pt\; mso-fareast-font-family: &quot\;Times New Roman&quot\;\; mso-ansi-language: EN-US\; mso-fareast-language: EN-US\; mso-bidi-language: AR-SA\; mso-bidi-font-family: &quot\;Times New Roman&quot\;\; mso-ascii-theme-font: minor-latin\; mso-hansi-theme-font: minor-latin\;"><font color="#000000">Green smoothies can pack 12-15 servings of fruits and vegetables. Learn about the benefits of green smoothies and how to make one. Plus\, take home a set of recipes. </font></span>
LOCATION:Burlington Room\, North Kansas City Hospital\, Medical Plaza North\, 2790 Clay Edwards Drive
UID:e.211.5044
SEQUENCE:3
DTSTAMP:20260423T175332Z
URL:https://members.nkcbusinesscouncil.com/events/details/learn-about-green-smoothies-04-18-2016-5044
END:VEVENT

END:VCALENDAR
