BEGIN:VCALENDAR
VERSION:2.0
PRODID:-//ChamberMaster//Event Calendar 2.0//EN
METHOD:PUBLISH
X-PUBLISHED-TTL:P3D
REFRESH-INTERVAL:P3D
CALSCALE:GREGORIAN
BEGIN:VEVENT
DTSTART:20151121T190000Z
DTEND:20151121T203000Z
X-MICROSOFT-CDO-ALLDAYEVENT:FALSE
SUMMARY:Kris Kringle & K-9s
DESCRIPTION:Pictures with Santa\n\nStockings filled with care\n\nCarolers\n\nVendors\n\nHot Chocolate
X-ALT-DESC;FMTTYPE=text/html:Pictures with Santa<br />\nStockings filled with care<br />\nCarolers<br />\nVendors<br />\nHot Chocolate
LOCATION:Waggin' Trail Park 432 E. 32nd St.
UID:e.211.4671
SEQUENCE:3
DTSTAMP:20260424T045857Z
URL:https://members.nkcbusinesscouncil.com/events/details/kris-kringle-k-9s-11-21-2015-4671
END:VEVENT

END:VCALENDAR
