BEGIN:VCALENDAR
VERSION:2.0
PRODID:-//ChamberMaster//Event Calendar 2.0//EN
METHOD:PUBLISH
X-PUBLISHED-TTL:P3D
REFRESH-INTERVAL:P3D
CALSCALE:GREGORIAN
BEGIN:VEVENT
DTSTART:20150605T213000Z
DTEND:20150606T010000Z
X-MICROSOFT-CDO-ALLDAYEVENT:FALSE
SUMMARY:KC Food Truck Face Off
DESCRIPTION:A new class of food truck entrepreneurs will be show off their skills at the first KC Food Truck Face Off on Friday\, June 5th from 4:30 - 8:00 pm at the Roasterie. This event will showcase the next generation of KC food truckers. Food-lovers can sample a special\, 4-course\, half-entree food truck menu and then vote on which food truck will be named the 2015 KC Food Truck Rookie of the Year. Cinderblock Brewery and Rock & Run Brewery will provide free beer samples.
X-ALT-DESC;FMTTYPE=text/html:A new class of food truck entrepreneurs will be show off their skills at the first KC Food Truck Face Off on Friday\, June 5th from 4:30 - 8:00 pm at the Roasterie. This event will showcase the next generation of KC food truckers. Food-lovers can sample a special\, 4-course\, half-entree food truck menu and then vote on which food truck will be named the 2015 KC Food Truck Rookie of the Year. Cinderblock Brewery and Rock &amp\; Run Brewery will provide free beer samples.
LOCATION:The Roasterie 1204 West 27th Street
UID:e.211.4416
SEQUENCE:3
DTSTAMP:20260424T111201Z
URL:https://members.nkcbusinesscouncil.com/events/details/kc-food-truck-face-off-06-05-2015-4416
END:VEVENT

END:VCALENDAR
