BEGIN:VCALENDAR
VERSION:2.0
PRODID:-//ChamberMaster//Event Calendar 2.0//EN
METHOD:PUBLISH
X-PUBLISHED-TTL:P3D
REFRESH-INTERVAL:P3D
CALSCALE:GREGORIAN
BEGIN:VEVENT
DTSTART:20150728T230000Z
DTEND:20150729T010000Z
X-MICROSOFT-CDO-ALLDAYEVENT:FALSE
SUMMARY:Jolly Pumpkin Beer Tasting
DESCRIPTION:We have Jolly Pumpkin fans that drive to North Kansas City for their favorite beers from this Michigan brewery--and we're proud of our selection of these beers.  We'll offer samples of four\, in the matching goblet\, that you can take home on Tuesday\, July 28th\, 6-8 PM.
X-ALT-DESC;FMTTYPE=text/html:<span style="font-family: &quot\;Times New Roman&quot\;\,&quot\;serif&quot\;\; font-size: 10.5pt\; mso-fareast-font-family: &quot\;Times New Roman&quot\;\; mso-ansi-language: EN-US\; mso-fareast-language: EN-US\; mso-bidi-language: AR-SA\;"><font color="#000000">We have </font><strong><span style="color: brown\; font-weight: normal\;">Jolly Pumpkin</span></strong><font color="#000000">&nbsp\;fans that drive to North Kansas City for their favorite beers from this Michigan brewery--and we&#39\;re proud of our selection of these beers. &nbsp\;We&#39\;ll offer samples of four\, in the matching goblet\, that you can take home on </font><u><font color="#000000">Tuesday\, July 28th\, 6-8 PM.&nbsp\;</font></u></span>
LOCATION:Grain to Glass 1611 Swift
UID:e.211.4634
SEQUENCE:3
DTSTAMP:20260424T084120Z
URL:https://members.nkcbusinesscouncil.com/events/details/jolly-pumpkin-beer-tasting-07-28-2015-4634
END:VEVENT

END:VCALENDAR
