BEGIN:VCALENDAR
VERSION:2.0
PRODID:-//ChamberMaster//Event Calendar 2.0//EN
METHOD:PUBLISH
X-PUBLISHED-TTL:P3D
REFRESH-INTERVAL:P3D
CALSCALE:GREGORIAN
BEGIN:VEVENT
DTSTART:20160116T193000Z
DTEND:20160116T210000Z
X-MICROSOFT-CDO-ALLDAYEVENT:FALSE
SUMMARY:Intro to Mosaics - Dare to Dabble
DESCRIPTION:18 yrs + \n\nUnless accompanied by an adult\, ages 8+\n\nLearn the basics of mosaic techniques and design to create a heart on a garden rock using a variety of tile from our mosaic buffet. Join us another day in open studio to grout your stone. All supplies are included.. Come back during open studio another day to grout your stone.
X-ALT-DESC;FMTTYPE=text/html:<span style="font-size: 11pt\;"><span style="font-family: arial\,sans-serif\;"><span style="color: black\;">18 yrs +&nbsp\;</span></span></span><br />\n<span style="font-size: 11pt\;"><span style="font-family: arial\,sans-serif\;"><span style="color: black\;">Unless accompanied by an adult\, ages 8+<br />\nLearn the basics of mosaic techniques and design to create a heart on a garden rock using a variety of tile from our mosaic buffet. Join us another day in open studio to grout your stone. All supplies are included.. Come back during open studio another day to grout your stone.</span></span></span><br />\n&nbsp\;
LOCATION:Dare to Dabble 1329 Swift North Kansas City\, MO 64116
UID:e.211.4681
SEQUENCE:3
DTSTAMP:20260424T025032Z
URL:https://members.nkcbusinesscouncil.com/events/details/intro-to-mosaics-dare-to-dabble-01-16-2016-4681
END:VEVENT

END:VCALENDAR
