BEGIN:VCALENDAR
VERSION:2.0
PRODID:-//ChamberMaster//Event Calendar 2.0//EN
METHOD:PUBLISH
X-PUBLISHED-TTL:P3D
REFRESH-INTERVAL:P3D
CALSCALE:GREGORIAN
BEGIN:VEVENT
DTSTART:20160718T223000Z
DTEND:20160719T000000Z
X-MICROSOFT-CDO-ALLDAYEVENT:FALSE
SUMMARY:Intro to Jin Shin Jyutsu
DESCRIPTION:Discover the origin of Jin Shin Jyutsu\, the ancient healing art that helps with the physical and emotional effects of illness. Learn about energy points on the body and JSJ self-help techniques to use at home.
X-ALT-DESC;FMTTYPE=text/html:<span style="font-family: &quot\;Calibri&quot\;\,&quot\;sans-serif&quot\;\; font-size: 11pt\; mso-ascii-theme-font: minor-latin\; mso-fareast-font-family: &quot\;Times New Roman&quot\;\; mso-hansi-theme-font: minor-latin\; mso-bidi-font-family: &quot\;Times New Roman&quot\;\; mso-ansi-language: EN-US\; mso-fareast-language: EN-US\; mso-bidi-language: AR-SA\;"><font color="#000000">Discover the origin of Jin Shin Jyutsu\, the ancient healing art that helps with the physical and emotional effects of illness. Learn about energy points on the body and JSJ self-help techniques to use at home. </font></span>
LOCATION:North Kansas City Hospital\, 1st floor Pavilion\, Burlington Room\, 2790 Clay Edwards Drive
UID:e.211.5137
SEQUENCE:3
DTSTAMP:20260423T074551Z
URL:https://members.nkcbusinesscouncil.com/events/details/intro-to-jin-shin-jyutsu-07-18-2016-5137
END:VEVENT

END:VCALENDAR
