BEGIN:VCALENDAR
VERSION:2.0
PRODID:-//ChamberMaster//Event Calendar 2.0//EN
METHOD:PUBLISH
X-PUBLISHED-TTL:P3D
REFRESH-INTERVAL:P3D
CALSCALE:GREGORIAN
BEGIN:VEVENT
DTSTART:20160205T220000Z
DTEND:20160206T000000Z
X-MICROSOFT-CDO-ALLDAYEVENT:FALSE
SUMMARY:Intro to Hoop Art - Dare to Dabble
DESCRIPTION:We will teach you some basic embroidery stitches and techniques for success. (Designed for beginners\, although open to anyone wanting to pick up a needle again) We provide all the supplies you need to create a fun design: a 7" hoop\, fabric\, embroidery floss\, needles and some fun patterns.
X-ALT-DESC;FMTTYPE=text/html:<span style="font: 14px/22px SQMarket-regular\, &quot\;Helvetica Neue&quot\;\, sans-serif\; color: rgb(149\, 155\, 162)\; text-transform: none\; text-indent: 0px\; letter-spacing: normal\; word-spacing: 0px\; float: none\; display: inline !important\; white-space: normal\; widows: 1\; font-size-adjust: none\; font-stretch: normal\; background-color: rgb(255\, 255\, 255)\; -webkit-text-stroke-color: rgba(0\, 0\, 0\, 0)\; -webkit-text-stroke-width: 1px\;">We will teach you some basic embroidery stitches and techniques for success. (Designed for beginners\, although open to anyone wanting to pick up a needle again) We provide all the supplies you need to create a fun design: a 7&rdquo\; hoop\, fabric\, embroidery floss\, needles and some fun patterns.</span>
LOCATION:Dare to Dabble 1329 Swift
UID:e.211.4837
SEQUENCE:3
DTSTAMP:20260424T001708Z
URL:https://members.nkcbusinesscouncil.com/events/details/intro-to-hoop-art-dare-to-dabble-02-05-2016-4837
END:VEVENT

END:VCALENDAR
