BEGIN:VCALENDAR
VERSION:2.0
PRODID:-//ChamberMaster//Event Calendar 2.0//EN
METHOD:PUBLISH
X-PUBLISHED-TTL:P3D
REFRESH-INTERVAL:P3D
CALSCALE:GREGORIAN
BEGIN:VEVENT
DTSTART:20160209T010000Z
DTEND:20160209T030000Z
X-MICROSOFT-CDO-ALLDAYEVENT:FALSE
SUMMARY:Inspired to Ride - Screenland Armour
DESCRIPTION:On June 7\, 2014\, forty-five cyclists from around the world set out on the inaugural Trans Am Bike Race\, following the famed TransAmerica Trail. Their mission is to cover 4\,233 miles in one enormous stage race\, traversing through ten states in a transcontinental adventure of epic proportions. Inspired To Ride follows closely the journey of a handful of these cyclists as they prepare\, compete and experience what riding 300 miles a day feels like with only a few hours sleep. These racers will rely solely on their fitness\, meticulously chosen gear and mental fortitude to get them to the finish.
X-ALT-DESC;FMTTYPE=text/html:<span style="font: 14px/22.4px &quot\;Noto Sans&quot\;\, sans-serif\; text-transform: none\; text-indent: 0px\; letter-spacing: normal\; word-spacing: 0px\; float: none\; display: inline !important\; white-space: normal\; widows: 1\; font-size-adjust: none\; font-stretch: normal\; background-color: rgb(255\, 255\, 255)\; -webkit-text-stroke-width: 0px\;">On June 7\, 2014\, forty-five cyclists from around the world set out on the inaugural Trans Am Bike Race\, following the famed </span><span style="font: 14px/22.4px &quot\;Noto Sans&quot\;\, sans-serif\; text-transform: none\; text-indent: 0px\; letter-spacing: normal\; word-spacing: 0px\; float: none\; display: inline !important\; white-space: normal\; widows: 1\; font-size-adjust: none\; font-stretch: normal\; background-color: rgb(255\, 255\, 255)\; -webkit-text-stroke-width: 0px\;">TransAmerica Trail. Their mission is to cover 4\,233 miles in one enormous stage race\, traversing through ten states in a transcontinental adventure of epic proportions. Inspired To Ride follows closely the journey of a handful of these cyclists as they prepare\, compete and experience what riding 300 miles a day feels like with only a few hours sleep. These racers will rely solely on their fitness\, meticulously chosen gear and mental fortitude to get them to the finish</span><span style="font: 14px/22.4px &quot\;Noto Sans&quot\;\, sans-serif\; color: rgb(119\, 119\, 119)\; text-transform: none\; text-indent: 0px\; letter-spacing: normal\; word-spacing: 0px\; float: none\; display: inline !important\; white-space: normal\; widows: 1\; font-size-adjust: none\; font-stretch: normal\; background-color: rgb(255\, 255\, 255)\; -webkit-text-stroke-width: 0px\;">.</span>
LOCATION:Screenland Armour 408 Armour
UID:e.211.4925
SEQUENCE:3
DTSTAMP:20260424T001401Z
URL:https://members.nkcbusinesscouncil.com/events/details/inspired-to-ride-screenland-armour-02-08-2016-4925
END:VEVENT

END:VCALENDAR
