BEGIN:VCALENDAR
VERSION:2.0
PRODID:-//ChamberMaster//Event Calendar 2.0//EN
METHOD:PUBLISH
X-PUBLISHED-TTL:P3D
REFRESH-INTERVAL:P3D
CALSCALE:GREGORIAN
BEGIN:VEVENT
DTSTART:20160617T163000Z
DTEND:20160617T180000Z
X-MICROSOFT-CDO-ALLDAYEVENT:FALSE
SUMMARY:Incontinence and other Hush\, Hush Pelvic Issues
DESCRIPTION:Urinary incontinence and pelvic organ prolapse are common conditions\, but they are seldom a popular topic for conversation. Ian Rosbrugh\, MD\, opens the door for a frank discussion on the causes\, cures and controversies surrounding these and other pelvic issues. \n\nFREE\; lunch is provided. To register\, go online at nkch.org/lunch.
X-ALT-DESC;FMTTYPE=text/html:<span style="font-size: medium\;"><span style="font-family: calibri\;">Urinary incontinence and pelvic organ prolapse are common conditions\, but they are seldom a popular topic for conversation. Ian Rosbrugh\, MD\, opens the door for a frank discussion on the causes\, cures and controversies surrounding these and other pelvic issues. </span></span><br />\n<span style="font-size: medium\;"><span style="font-family: calibri\;">FREE<span style="color: rgb(34\, 30\, 31)\;">\; lunch is provided. </span>To register\, go online at nkch.org/lunch.</span></span><br />\n&nbsp\;
LOCATION:NKC YMCA 1999 Iron
UID:e.211.5124
SEQUENCE:3
DTSTAMP:20260423T112506Z
URL:https://members.nkcbusinesscouncil.com/events/details/incontinence-and-other-hush-hush-pelvic-issues-06-17-2016-5124
END:VEVENT

END:VCALENDAR
