BEGIN:VCALENDAR
VERSION:2.0
PRODID:-//ChamberMaster//Event Calendar 2.0//EN
METHOD:PUBLISH
X-PUBLISHED-TTL:P3D
REFRESH-INTERVAL:P3D
CALSCALE:GREGORIAN
BEGIN:VEVENT
DTSTART:20260415T210000Z
DTEND:20260415T230000Z
X-MICROSOFT-CDO-ALLDAYEVENT:FALSE
SUMMARY:Ideas on Tap: Jerry Hickey - Attracting & Maintaining Talent in Today's Labor Market
DESCRIPTION:An opportunity to enjoy a little food and beverage\, network with other business leaders and learn something about successful employee hiring and retention. For a portion of the time between 4:00 p.m. and 6:00 p.m. \n\n \n\nJerry Hickey\, owner of Express Employment Professionals here in North Kansas City\, under the general title of "Attracting and Keeping Talent in Today's Labor Market" will share his insights about: the current employment market\, developing a compensation strategy\, managing turnover\, key drivers of job selection and retention\, retention risks related to compensation and culture of your business and your reputation in the market.\n\n \n\nApril 15\, 4:00   6:00 p.m.   back room at Chappell's Restaurant & Sports Museum\n\n\n\nNo cost to attend. NKCBC members and non-members are welcome. No registration needed.
X-ALT-DESC;FMTTYPE=text/html:<span style="font-size:14px\;"><span style="font-family:tahoma\;">&nbsp\;</span></span><span style="font-size:14.0pt\;">An opportunity to enjoy a little food and beverage\, network with other business leaders and learn something about successful employee hiring and retention. For a portion of the time between 4:00 p.m. and 6:00 p.m. </span><br />\n&nbsp\;<br />\n<span style="font-size:14.0pt\;">Jerry Hickey\, owner of Express Employment Professionals here in North Kansas City\, under the general title of &ldquo\;Attracting and Keeping Talent in Today&#39\;s Labor Market&rdquo\; will share his insights about: the current employment market\, developing a compensation strategy\, managing turnover\, key drivers of job selection and retention\, retention risks related to compensation and culture of your business and your reputation in the market.</span><br />\n&nbsp\;<br />\n<span style="font-size:14.0pt\;">April 15\, 4:00 &ndash\; 6:00 p.m. &ndash\; back room at Chappell&rsquo\;s Restaurant &amp\; Sports Museum</span><br />\n<br />\n<span style="font-size:14.0pt\;">No cost to attend. NKCBC members and non-members are welcome. No registration needed.&nbsp\;</span><br />\n<br />\n<br />\n<br />\n<br />\n&nbsp\;
LOCATION:Chappell's Restaurant & Sports Museum 323 Armor Rd\, North Kansas City
UID:e.211.6076
SEQUENCE:3
DTSTAMP:20260426T001654Z
URL:https://members.nkcbusinesscouncil.com/events/details/ideas-on-tap-jerry-hickey-attracting-maintaining-talent-in-today-s-labor-market-6076
END:VEVENT

END:VCALENDAR
