BEGIN:VCALENDAR
VERSION:2.0
PRODID:-//ChamberMaster//Event Calendar 2.0//EN
METHOD:PUBLISH
X-PUBLISHED-TTL:P3D
REFRESH-INTERVAL:P3D
CALSCALE:GREGORIAN
BEGIN:VEVENT
DTSTART:20160423T190000Z
DTEND:20160423T210000Z
X-MICROSOFT-CDO-ALLDAYEVENT:FALSE
SUMMARY:" I can do that" Tile Collage\, Alcohol Inks
DESCRIPTION:Learn the surprising art you can create with alcohol inks! We will walk you through the steps of making a tile collage with inks. We'll provide the ambiance to inspire your creativity\, the supplies and a couple hours of relaxing Dare to Dabble art experience! Best of all\, at the end of this class you will have a finished tile collage to take home and brag about.
X-ALT-DESC;FMTTYPE=text/html:<span style="font-family: arial\,sans-serif\;"><span style="color: black\;"><span style="font-size: medium\;">Learn the surprising art you can create with alcohol inks! We will walk you through the steps of making a tile collage with inks. We&#39\;ll provide the ambiance to inspire your creativity\, the supplies and a couple hours of relaxing Dare to Dabble art experience! Best of all\, at the end of this class you will have a finished tile collage to take home and brag about.</span></span></span><br />\n<br />\n&nbsp\;
LOCATION:Dare to Dabble 1329 Swift
UID:e.211.4999
SEQUENCE:3
DTSTAMP:20260423T175529Z
URL:https://members.nkcbusinesscouncil.com/events/details/i-can-do-that-tile-collage-alcohol-inks-04-23-2016-4999
END:VEVENT

END:VCALENDAR
