BEGIN:VCALENDAR
VERSION:2.0
PRODID:-//ChamberMaster//Event Calendar 2.0//EN
METHOD:PUBLISH
X-PUBLISHED-TTL:P3D
REFRESH-INTERVAL:P3D
CALSCALE:GREGORIAN
BEGIN:VEVENT
DTSTART:20160219T173000Z
DTEND:20160219T190000Z
X-MICROSOFT-CDO-ALLDAYEVENT:FALSE
SUMMARY:How to be Heart Healthy with Diabetes
DESCRIPTION:Controlling your diabetes and reducing your risk for heart disease means making healthy lifestyle choices about diet and exercise. Melissa Zalonis\, RN-CDE\, shares her tips for living heart healthy with diabetes.
X-ALT-DESC;FMTTYPE=text/html:<span style="font-size: 11pt\;"><span style="font-family: calibri\,sans-serif\;">Controlling your diabetes and reducing your risk for heart disease means making healthy lifestyle choices about diet and exercise. Melissa Zalonis\, RN-CDE\, shares her tips for living heart healthy with diabetes.&nbsp\;&nbsp\;</span></span>
LOCATION:North Kansas City YMCA\; 1999 Iron Street
UID:e.211.4904
SEQUENCE:3
DTSTAMP:20260424T001903Z
URL:https://members.nkcbusinesscouncil.com/events/details/how-to-be-heart-healthy-with-diabetes-02-19-2016-4904
END:VEVENT

END:VCALENDAR
