BEGIN:VCALENDAR
VERSION:2.0
PRODID:-//ChamberMaster//Event Calendar 2.0//EN
METHOD:PUBLISH
X-PUBLISHED-TTL:P3D
REFRESH-INTERVAL:P3D
CALSCALE:GREGORIAN
BEGIN:VEVENT
DTSTART:20151018T210000Z
DTEND:20151019T000000Z
X-MICROSOFT-CDO-ALLDAYEVENT:FALSE
SUMMARY:Homebrewing for Beginners
DESCRIPTION:Our October "Homebrewing for Beginners" class is Sunday\, Oct. 18th\, from 4-7 PM. This class is all-inclusive\, meaning we brew a batch\, and also bottle a previously fermented brew--everyone takes home bottles.  The class is limited to twelve people\; the cost is $50 for the 3-Hour class\, and you receive a $10 discount on equipment purchase the night of class. And\, each participant receives a detailed 2-page handout to follow during our class--and for use at home\, to become confident brewers.  We've taught over 200 the basics of homebrewing in 2 1/2 years. Classes fill quickly!  Pass the word along to friends who have been interested in learning to brew!  Our other fall classes are on Sunday afternoons. Payment is made online through Brown Paper Tickets.
X-ALT-DESC;FMTTYPE=text/html:<h3 style="margin: 8.4pt 0in 4.2pt\;"><font color="#606060"><span style="font-size: 10.5pt\; mso-fareast-font-family: &quot\;Times New Roman&quot\;\;"><strong>Our&nbsp\;October &quot\;</strong><strong><span style="font-family: &quot\;Arial&quot\;\,&quot\;sans-serif&quot\;\;">Homebrewing for Beginners</span></strong><strong>&quot\; class is&nbsp\;</strong><strong><span style="font-family: &quot\;Arial&quot\;\,&quot\;sans-serif&quot\;\;">Sunday\, Oct. 18th\, from 4-7 PM</span></strong><strong>. This class is all-inclusive\, meaning we brew a batch\, and also bottle a previously fermented brew--everyone takes home bottles. &nbsp\;The class is limited to twelve people\; the cost is $50 for the 3-Hour class\, and you receive a $10 discount on equipment purchase the night of class. And\, each participant receives a detailed 2-page handout to follow during our class--and for use at home\, to become confident brewers. &nbsp\;We&#39\;ve taught over 200 the basics of homebrewing in 2 1/2 years. Classes fill quickly!&nbsp\; Pass the word along to friends who have been interested in learning to brew! &nbsp\;Our other fall classes are on Sunday afternoons.&nbsp\;Payment is made online through Brown Paper Tickets.</strong></span><span style="mso-fareast-font-family: &quot\;Times New Roman&quot\;\;"><o:p></o:p></span></font></h3>\n
LOCATION:Grain to Glass 1611 Swift
UID:e.211.4663
SEQUENCE:3
DTSTAMP:20260424T045808Z
URL:https://members.nkcbusinesscouncil.com/events/details/homebrewing-for-beginners-10-18-2015-4663
END:VEVENT

END:VCALENDAR
