BEGIN:VCALENDAR
VERSION:2.0
PRODID:-//ChamberMaster//Event Calendar 2.0//EN
METHOD:PUBLISH
X-PUBLISHED-TTL:P3D
REFRESH-INTERVAL:P3D
CALSCALE:GREGORIAN
BEGIN:VEVENT
DTSTART:20150621T200000Z
DTEND:20150621T230000Z
X-MICROSOFT-CDO-ALLDAYEVENT:FALSE
SUMMARY:Homebrewing for Beginners
DESCRIPTION:Our June "Homebrewing for Beginners" class is on Father's Day\, June 21st from 3-6 PM. Sons\, Daughters\, and Wives--give your guy a great gift\, an introduction to homebrewing!  This class is all-inclusive\, meaning we brew a batch\, and also bottle a previously fermented brew--everyone takes home bottles.  The class is limited to twelve people\; the cost is $50 for the 3-Hour class\, and each student receives a $10 discount on equipment purchase at the end of class. And\, each participant receives a detailed 2-page handout to follow during our class--and for use at home\, to become confident brewers.  We've taught over 200 the basics of homebrewing in 3 years. Classes fill quickly!  Payment is made online through Brown Paper Tickets.\n\nOther summer classes will also be offered on Sunday afternoons in July and August.\n\nSunday\, June 21st\, 3-6 PM: http://bpt.me/1565106\n\nSunday\, July 12th\, 3-6 PM: http://bpt.me/1677750\n\nSunday\, August 9th\, 3-6 PM: http://bpt.me/1677752
X-ALT-DESC;FMTTYPE=text/html:<span style="font-size: 10.5pt\;"><span style="font-family: times new roman\,serif\;">Our June &quot\;<strong><span style="font-weight: normal\;">Homebrewing for Beginners</span></strong>&quot\; class is&nbsp\;<strong><span style="font-weight: normal\;">on Father&#39\;s Day\, June 21st from 3-6 PM</span></strong>. Sons\, Daughters\, and Wives--give your guy a great gift\, an introduction to homebrewing! &nbsp\;This class is all-inclusive\, meaning we brew a batch\, and also bottle a previously fermented brew--everyone takes home bottles. &nbsp\;The class is limited to twelve people\; the cost is $50 for the 3-Hour class\, and each student receives a $10 discount on equipment purchase at the end of class. And\, each participant receives a detailed 2-page handout to follow during our class--and for use at home\, to become confident brewers. &nbsp\;We&#39\;ve taught over 200 the basics of homebrewing in 3 years. Classes fill quickly!&nbsp\; Payment is made online through Brown Paper Tickets.</span></span><br />\n<span style="font-size: 10.5pt\;"><span style="font-family: times new roman\,serif\;">Other summer classes will also be offered on Sunday afternoons in July and August.</span></span><br />\n<span style="font-size: 11.5pt\;"><span style="font-family: times new roman\,serif\;">Sunday\, June 21st\, 3-6 PM:</span></span>&nbsp\;<span style="font-size: 12pt\;"><span style="font-family: times new roman\,serif\;"><a href="http://graintoglass.us6.list-manage.com/track/click?u=4962a243373837a1075ac356b&amp\;id=9081bdc8da&amp\;e=62864c39e5" target="_blank"><strong><span style="color: rgb(51\, 102\, 153)\;">http://bpt.me/1565106</span></strong></a></span></span><br />\n<span style="font-size: 11.5pt\;"><span style="font-family: times new roman\,serif\;"><span style="color: rgb(64\, 64\, 64)\;">Sunday\, July 12th\, 3-6 PM:&nbsp\;</span></span></span><span style="font-size: 12pt\;"><span style="font-family: times new roman\,serif\;"><a href="http://graintoglass.us6.list-manage2.com/track/click?u=4962a243373837a1075ac356b&amp\;id=9417294d17&amp\;e=62864c39e5" target="_blank"><strong><span style="color: rgb(51\, 102\, 153)\;">http://bpt.me/1677750</span></strong></a></span></span><br />\n<span style="font-size: 11.5pt\;"><span style="font-family: times new roman\,serif\;"><span style="color: rgb(64\, 64\, 64)\;">Sunday\, August 9th\, 3-6 PM:&nbsp\;</span></span></span><span style="font-size: 12pt\;"><span style="font-family: times new roman\,serif\;"><a href="http://graintoglass.us6.list-manage1.com/track/click?u=4962a243373837a1075ac356b&amp\;id=990017cc5d&amp\;e=62864c39e5" target="_blank"><strong><span style="color: rgb(51\, 102\, 153)\;">http://bpt.me/1677752</span></strong></a></span></span><br />\n<br />\n&nbsp\;
LOCATION:Grain to Glass 1611 Swift
UID:e.211.4628
SEQUENCE:3
DTSTAMP:20260424T094436Z
URL:https://members.nkcbusinesscouncil.com/events/details/homebrewing-for-beginners-06-21-2015-4628
END:VEVENT

END:VCALENDAR
