BEGIN:VCALENDAR
VERSION:2.0
PRODID:-//ChamberMaster//Event Calendar 2.0//EN
METHOD:PUBLISH
X-PUBLISHED-TTL:P3D
REFRESH-INTERVAL:P3D
CALSCALE:GREGORIAN
BEGIN:VEVENT
DTSTART:20160615T223000Z
DTEND:20160616T020000Z
X-MICROSOFT-CDO-ALLDAYEVENT:FALSE
SUMMARY:HEART SAVER CPR
DESCRIPTION:For people who\, as first responders\, may need to perform CPR in the workplace or similar settings. Also for anyone who needs a course completion card. Course covers adult and child CPR and AED training.
X-ALT-DESC;FMTTYPE=text/html:<span style="font-size: medium\;"><span style="font-family: calibri\;">For people who\, as first responders\, may need to perform CPR in the workplace or similar settings. Also for anyone who needs a course completion card. Course covers adult and child CPR and AED training.</span></span><br />\n&nbsp\;
LOCATION:North Kansas City Hospital\, 1st floor Pavilion\, 2790 Clay Edwards Drive
UID:e.211.5128
SEQUENCE:3
DTSTAMP:20260423T111013Z
URL:https://members.nkcbusinesscouncil.com/events/details/heart-saver-cpr-06-15-2016-5128
END:VEVENT

END:VCALENDAR
