BEGIN:VCALENDAR
VERSION:2.0
PRODID:-//ChamberMaster//Event Calendar 2.0//EN
METHOD:PUBLISH
X-PUBLISHED-TTL:P3D
REFRESH-INTERVAL:P3D
CALSCALE:GREGORIAN
BEGIN:VEVENT
DTSTART:20160224T233000Z
DTEND:20160225T030000Z
X-MICROSOFT-CDO-ALLDAYEVENT:FALSE
SUMMARY:HEART SAVER CPR
DESCRIPTION:For people who\, as first responders\, may need to perform CPR in the workplace or similar settings. Also for anyone who needs a course completion card. Course covers adult and child CPR and AED training.
X-ALT-DESC;FMTTYPE=text/html:<span style="font-size: medium\;"><span style="font-family: calibri\;">For people who\, as first responders\, may need to perform CPR in the workplace or similar settings. Also for anyone who needs a course completion card. Course covers adult and child CPR and AED training.</span></span><br />\n&nbsp\;
LOCATION:North Kansas City Hospital\, 1st floor Pavilion\, 2790 Clay Edwards Drive
UID:e.211.4913
SEQUENCE:3
DTSTAMP:20260424T000649Z
URL:https://members.nkcbusinesscouncil.com/events/details/heart-saver-cpr-02-24-2016-4913
END:VEVENT

END:VCALENDAR
