BEGIN:VCALENDAR
VERSION:2.0
PRODID:-//ChamberMaster//Event Calendar 2.0//EN
METHOD:PUBLISH
X-PUBLISHED-TTL:P3D
REFRESH-INTERVAL:P3D
CALSCALE:GREGORIAN
BEGIN:VEVENT
DTSTART:20130828T150000Z
DTEND:20130828T160000Z
X-MICROSOFT-CDO-ALLDAYEVENT:FALSE
SUMMARY:Healthcare Webinar
DESCRIPTION:Why??-  There is continued interest on learning more about the business impact of recent changes to the healthcare reform law\n\n \n\nWhat:  NKC Business Council Member\, Express Employment Professionals in association with Lockton Benefit Group is offering a special webinar on Health Care Reform.  The purpose is to update you on recent and important changes under the federal health care reform law\, and the many challenges - and opportunities - the law presents for companies like yours.   It's free to register and you can listen live from your place of work.\n\n \n\n                Understanding Health Care Reform: What Now?  Featuring Joe Agnello and Edward Fensholt\, JD\, of Lockton Companies\, LLC\, the world's largest privately held insurance brokerage and consulting firm. \n\n                The presentation will address:\n\n\n	\n		Reform from 30\,000 feet: A quick overview of health care reform \n	\n		Important recent regulatory changes\, including a one-year delay for the employer mandate\, and the potential non-compliance consequences \n	\n		Possible delays in the law's "individual mandate\," and the potential non-compliance consequences \n	\n		Challenges health care reform poses to small and mid-size employers\n\n \n\nWhen:  Wednesday\, Aug. 28\, 2013\, 10:00 - 11:00 a.m. (CDT)\n\n \n\nWhere:  Register and listen live from your office!\n\n \n\nHow:  To register\, please call Ashley at Express   816.994.2424 or email Ashley.muskrat@expresspros.com
X-ALT-DESC;FMTTYPE=text/html:<strong>Why??-&nbsp\; There is continued interest on learning more about the business impact of recent changes to the healthcare reform law</strong><br />\n&nbsp\;<br />\n<strong>What:&nbsp\; NKC Business Council Member\, Express Employment Professionals in association with Lockton Benefit Group is offering a special webinar on Health Care Reform.&nbsp\; The purpose is to update you on recent and important changes under the federal health care reform law\, and the many challenges - and opportunities - the law presents for companies like yours. &nbsp\;&nbsp\;It&rsquo\;s free to register and you can listen live from your place of work.</strong><br />\n&nbsp\;<br />\n<strong>&nbsp\;&nbsp\;&nbsp\;&nbsp\;&nbsp\;&nbsp\;&nbsp\;&nbsp\;&nbsp\;&nbsp\;&nbsp\;&nbsp\;&nbsp\;&nbsp\;&nbsp\; Understanding Health Care Reform: What Now?&nbsp\; Featuring Joe Agnello and Edward Fensholt\, JD\, of Lockton Companies\, LLC\, the world&#39\;s largest privately held insurance brokerage and consulting firm. </strong><br />\n<strong>&nbsp\;&nbsp\;&nbsp\;&nbsp\;&nbsp\;&nbsp\;&nbsp\;&nbsp\;&nbsp\;&nbsp\;&nbsp\;&nbsp\;&nbsp\;&nbsp\;&nbsp\; The presentation will address:</strong><br />\n<ul>\n	<li>\n		<strong>Reform from 30\,000 feet: A quick overview of health care reform </strong></li>\n	<li>\n		<strong>Important recent regulatory changes\, including a one-year delay for the employer mandate\, and the potential non-compliance consequences </strong></li>\n	<li>\n		<strong>Possible delays in the law&#39\;s &quot\;individual mandate\,&quot\; and the potential non-compliance consequences </strong></li>\n	<li>\n		<strong>Challenges health care reform poses to small and mid-size employers</strong></li>\n</ul>\n&nbsp\;<br />\n<strong>When:&nbsp\; Wednesday\, Aug. 28\, 2013\, 10:00 - 11:00 a.m. (CDT)</strong><br />\n&nbsp\;<br />\n<strong>Where:&nbsp\; Register and listen live from your office!</strong><br />\n&nbsp\;<br />\n<strong>How:&nbsp\; <u>To register</u>\, please call Ashley at Express &ndash\; 816.994.2424 or email <a href="mailto:Ashley.muskrat@expresspros.com">Ashley.muskrat@expresspros.com</a></strong>
LOCATION:Your Office Computer
UID:e.211.3547
SEQUENCE:3
DTSTAMP:20260425T152618Z
URL:https://members.nkcbusinesscouncil.com/events/details/healthcare-webinar-08-28-2013-3547
END:VEVENT

END:VCALENDAR
