BEGIN:VCALENDAR
VERSION:2.0
PRODID:-//ChamberMaster//Event Calendar 2.0//EN
METHOD:PUBLISH
X-PUBLISHED-TTL:P3D
REFRESH-INTERVAL:P3D
CALSCALE:GREGORIAN
BEGIN:VEVENT
DTSTART:20140910T200000Z
DTEND:20140911T010000Z
X-MICROSOFT-CDO-ALLDAYEVENT:FALSE
SUMMARY:Harvest Productions Open House
DESCRIPTION:Stop by and see the new location for Harvest Productions.\n\nLive Music from 5:30 - 8:00 pm\n\nLocal Food and Beverages\, Including beer from Cinderblock Brewery.
X-ALT-DESC;FMTTYPE=text/html:Stop by and see the new location for Harvest Productions.<br />\nLive Music from 5:30 - 8:00 pm<br />\nLocal Food and Beverages\, Including beer from Cinderblock Brewery.
LOCATION:1340 Burlington NKC\, MO 64116
UID:e.211.4254
SEQUENCE:3
DTSTAMP:20260424T225353Z
URL:https://members.nkcbusinesscouncil.com/events/details/harvest-productions-open-house-09-10-2014-4254
END:VEVENT

END:VCALENDAR
