BEGIN:VCALENDAR
VERSION:2.0
PRODID:-//ChamberMaster//Event Calendar 2.0//EN
METHOD:PUBLISH
X-PUBLISHED-TTL:P3D
REFRESH-INTERVAL:P3D
CALSCALE:GREGORIAN
BEGIN:VEVENT
DTSTART:20151014T230000Z
DTEND:20151015T010000Z
X-MICROSOFT-CDO-ALLDAYEVENT:FALSE
SUMMARY:Harry Potter Wands - Dare to Dabble
DESCRIPTION:Come and create your very own wand. We have all the supplies you need to make a one of a kind wand just in time for Halloween!
X-ALT-DESC;FMTTYPE=text/html:<span style="color: black\; font-family: &quot\;Arial&quot\;\,&quot\;sans-serif&quot\;\; font-size: 12pt\; mso-fareast-font-family: &quot\;Times New Roman&quot\;\; mso-ansi-language: EN-US\; mso-fareast-language: EN-US\; mso-bidi-language: AR-SA\;">Come and create your very own wand. We have all the supplies you need to make a one of a kind wand just in time for Halloween!</span>
LOCATION:Dare to Dabble 1329 Swift
UID:e.211.4665
SEQUENCE:3
DTSTAMP:20260424T050255Z
URL:https://members.nkcbusinesscouncil.com/events/details/harry-potter-wands-dare-to-dabble-10-14-2015-4665
END:VEVENT

END:VCALENDAR
