BEGIN:VCALENDAR
VERSION:2.0
PRODID:-//ChamberMaster//Event Calendar 2.0//EN
METHOD:PUBLISH
X-PUBLISHED-TTL:P3D
REFRESH-INTERVAL:P3D
CALSCALE:GREGORIAN
BEGIN:VEVENT
DTSTART:20160212T000000Z
DTEND:20160212T030000Z
X-MICROSOFT-CDO-ALLDAYEVENT:FALSE
SUMMARY:Harley & Hearts
DESCRIPTION:February is heart health month. Join North Kansas City Hospital at a Test Your Ticker Heart Health Fair and receive a full lipid profile along with a check of your height\, weight\, Body Mass Index (BMI)\, blood pressure and blood sugar levels. We'll have healthcare professionals on hand to answer all of your heart health questions.
X-ALT-DESC;FMTTYPE=text/html:<span style="font-family: times new roman\;"><span style="color: rgb(34\, 30\, 31)\;"><span style="font-size: 10pt\;">February is heart health month</span><span style="font-size: 10pt\;">. Join North Kansas City Hospital at a Test Your Ticker Heart Health Fair and receive a full lipid profile along with a check of your height\, weight\, Body Mass Index (BMI)\, blood pressure and blood sugar levels. We&rsquo\;ll have healthcare professionals on hand to answer all of your heart health questions. </span></span></span><br />\n&nbsp\;
LOCATION:Worth Harley-Davidson 9400 NW Prairie View Rd\, Kansas City\, MO 64153
UID:e.211.4907
SEQUENCE:3
DTSTAMP:20260424T000539Z
URL:https://members.nkcbusinesscouncil.com/events/details/harley-hearts-02-11-2016-4907
END:VEVENT

END:VCALENDAR
