BEGIN:VCALENDAR
VERSION:2.0
PRODID:-//ChamberMaster//Event Calendar 2.0//EN
METHOD:PUBLISH
X-PUBLISHED-TTL:P3D
REFRESH-INTERVAL:P3D
CALSCALE:GREGORIAN
BEGIN:VEVENT
DTSTART:20151118T173000Z
DTEND:20151118T190000Z
X-MICROSOFT-CDO-ALLDAYEVENT:FALSE
SUMMARY:Hard Hat lunch
DESCRIPTION:iWerx\, an Enterprise and Entrepreneurial Development Center feeds GEW attendees and provides hard-hat tours of the metro's newest business incubator\, featuring 10 gig connectivity.
X-ALT-DESC;FMTTYPE=text/html:<span style="font-size: 10.5pt\;"><span style="font-family: helvetica\,sans-serif\;"><span style="color: rgb(34\, 34\, 34)\;">iWerx\, an Enterprise and Entrepreneurial Development Center feeds GEW attendees and provides hard-hat tours of the metro&rsquo\;s newest business incubator\, featuring 10 gig connectivity.</span></span></span><br />\n<br />\n&nbsp\;
LOCATION:iWerx 1501 Burlington North Kansas City\, MO 64116
UID:e.211.4678
SEQUENCE:3
DTSTAMP:20260424T033434Z
URL:https://members.nkcbusinesscouncil.com/events/details/hard-hat-lunch-11-18-2015-4678
END:VEVENT

END:VCALENDAR
