BEGIN:VCALENDAR
VERSION:2.0
PRODID:-//ChamberMaster//Event Calendar 2.0//EN
METHOD:PUBLISH
X-PUBLISHED-TTL:P3D
REFRESH-INTERVAL:P3D
CALSCALE:GREGORIAN
BEGIN:VEVENT
DTSTART:20160229T233000Z
DTEND:20160301T010000Z
X-MICROSOFT-CDO-ALLDAYEVENT:FALSE
SUMMARY:GUIDED RELAXATION\, TURNING POINT & GILDA?S CLUB
DESCRIPTION:Take time for relaxation\, friendship and support. Learn to use mind-body techniques such as guided visualization and meditation to control anxiety\, reduce stress and relax.
X-ALT-DESC;FMTTYPE=text/html:<span style="font-size: 11pt\;"><span style="font-family: calibri\,sans-serif\;"><span style="color: rgb(34\, 30\, 31)\;">Take time for relaxation\, friendship and support. Learn to use mind-body techniques such as guided visualization and meditation to control anxiety\, reduce stress and relax. </span></span></span>
LOCATION:North Kansas City Hospital\, Medical Plaza North\, 2750 Clay Edwards Drive\, Suite 210
UID:e.211.4911
SEQUENCE:3
DTSTAMP:20260424T001400Z
URL:https://members.nkcbusinesscouncil.com/events/details/guided-relaxation-turning-point-gilda-s-club-02-29-2016-4911
END:VEVENT

END:VCALENDAR
