BEGIN:VCALENDAR
VERSION:2.0
PRODID:-//ChamberMaster//Event Calendar 2.0//EN
METHOD:PUBLISH
X-PUBLISHED-TTL:P3D
REFRESH-INTERVAL:P3D
CALSCALE:GREGORIAN
BEGIN:VEVENT
DTSTART:20150805T230000Z
DTEND:20150806T010000Z
X-MICROSOFT-CDO-ALLDAYEVENT:FALSE
SUMMARY:Grain to Glass - Winemaking Class
DESCRIPTION:Wednesday\, August 5th\, 6 PM. Come see how easy it is to make a fruit wine with our Orchard Breezin' kits--ready in just four weeks!
X-ALT-DESC;FMTTYPE=text/html:<span style="font-size: 10.5pt\; font-weight: normal\; mso-fareast-font-family: &quot\;Times New Roman&quot\;\; mso-ansi-language: EN-US\; mso-fareast-language: EN-US\; mso-bidi-language: AR-SA\;"><font color="#000000" face="Times New Roman">Wednesday\, August 5th\, 6 PM. Come see how easy it is to make a fruit wine with our Orchard Breezin&#39\; kits--ready in just four weeks!&nbsp\;&nbsp\;</font></span>
LOCATION:Grain to Glass 1611 Swift
UID:e.211.4639
SEQUENCE:3
DTSTAMP:20260424T071627Z
URL:https://members.nkcbusinesscouncil.com/events/details/grain-to-glass-winemaking-class-08-05-2015-4639
END:VEVENT

END:VCALENDAR
