BEGIN:VCALENDAR
VERSION:2.0
PRODID:-//ChamberMaster//Event Calendar 2.0//EN
METHOD:PUBLISH
X-PUBLISHED-TTL:P3D
REFRESH-INTERVAL:P3D
CALSCALE:GREGORIAN
BEGIN:VEVENT
DTSTART:20160131T180000Z
DTEND:20160131T200000Z
X-MICROSOFT-CDO-ALLDAYEVENT:FALSE
SUMMARY:Grain to Glass - Sunday Tastings with Haley
DESCRIPTION:Haley O'Brien is super-knowledgeable on beer styles\, the lastest releases\, and brewing--having taken our first homebrewing class (July 2012)\, and worked at lots of beer places and breweries in town. You'll learn lots while enjoying the tastings she puts together.  They are offered for a nominal fee\, Noon-2 PM on Sundays\, and will resume on January 17th\, 24th\, and 31st--featuring Big Beers\; Belgians\, and Barleywines (Haley will be going again to that Vail Festival)!.
X-ALT-DESC;FMTTYPE=text/html:<span style="font-family: &quot\;Times New Roman&quot\;\,&quot\;serif&quot\;\; font-size: 10.5pt\; mso-fareast-font-family: &quot\;Times New Roman&quot\;\; mso-ansi-language: EN-US\; mso-fareast-language: EN-US\; mso-bidi-language: AR-SA\;"><font color="#000000">Haley O&#39\;Brien is&nbsp\;super-knowledgeable on&nbsp\;beer styles\, the lastest releases\, and brewing--having taken our first homebrewing class (July 2012)\, and worked at lots of beer places and breweries in town. You&#39\;ll learn lots while enjoying the tastings she puts together.&nbsp\; They are offered for a nominal fee\, Noon-2 PM on Sundays\, and will resume on January 17th\, 24th\, and 31st--featuring Big Beers\; Belgians\, and Barleywines (Haley will be going again to that Vail Festival)!.</font></span>
LOCATION:Grain to Glass 1611 Swift
UID:e.211.4697
SEQUENCE:3
DTSTAMP:20260424T014025Z
URL:https://members.nkcbusinesscouncil.com/events/details/grain-to-glass-sunday-tastings-with-haley-01-31-2016-4697
END:VEVENT

END:VCALENDAR
