BEGIN:VCALENDAR
VERSION:2.0
PRODID:-//ChamberMaster//Event Calendar 2.0//EN
METHOD:PUBLISH
X-PUBLISHED-TTL:P3D
REFRESH-INTERVAL:P3D
CALSCALE:GREGORIAN
BEGIN:VEVENT
DTSTART:20150627T150000Z
DTEND:20150627T160000Z
X-MICROSOFT-CDO-ALLDAYEVENT:FALSE
SUMMARY:Grain to Glass Saturday Morning Yoga
DESCRIPTION:Saturday Morning Yoga!  Beginning June 5th\, we're offering Beginners' Yoga at 10 AM.  We'll dedicate the north half of our carpeted area for an hour-long class led by Leigh Woody.  Cost per person is $10.  We've seen yoga classes offered at breweries--following with beers is a gentle way to start your Saturday!  Namaste!
X-ALT-DESC;FMTTYPE=text/html:<span style="font-family: times new roman\;"><span style="font-weight: normal\;"><span style="font-size: 10.5pt\;"><span style="color: teal\;">Saturday Morning Yoga!</span></span></span><strong><span style="font-weight: normal\;"><span style="font-size: 10.5pt\;"> &nbsp\;Beginning June 5th\, we&#39\;re offering Beginners&#39\; Yoga at 10 AM. &nbsp\;We&#39\;ll dedicate the north half of our carpeted area for an hour-long class led by Leigh Woody. &nbsp\;Cost per person is $10. &nbsp\;We&#39\;ve seen yoga classes offered at breweries--following with beers is a gentle way to start your Saturday! &nbsp\;Namaste!</span></span></strong></span>
LOCATION:Grain to Glass 1611 Swift
UID:e.211.4626
SEQUENCE:3
DTSTAMP:20260424T111207Z
URL:https://members.nkcbusinesscouncil.com/events/details/grain-to-glass-saturday-morning-yoga-06-27-2015-4626
END:VEVENT

END:VCALENDAR
