BEGIN:VCALENDAR
VERSION:2.0
PRODID:-//ChamberMaster//Event Calendar 2.0//EN
METHOD:PUBLISH
X-PUBLISHED-TTL:P3D
REFRESH-INTERVAL:P3D
CALSCALE:GREGORIAN
BEGIN:VEVENT
DTSTART:20150627T000000Z
DTEND:20150627T030000Z
X-MICROSOFT-CDO-ALLDAYEVENT:FALSE
SUMMARY:Grain to Glass Royals Night
DESCRIPTION:Royals Nights!  We are the place to watch and hear the games! Our larger flat panel is in place\, and we have the acoustics that allow you to follow the sportscasters on FoxSportsKC. Our bar is a nice place for viewing--and also enjoy some game-time food (carry-in is welcome)! We'll stay open late on Fridays in June: 5th (Texas at KC)\, 12th (at St. Louis)\, 19th (Boston at KC)\, and 26th (at Oakland). Celebrate homeruns with some spirits from Of The Earth (we're looking at Jim Pierce's cocktail ideas).  Let's Go\, Royals!
X-ALT-DESC;FMTTYPE=text/html:<font face="Times New Roman"><span style="color: mediumblue\; font-size: 10.5pt\; font-weight: normal\; mso-fareast-font-family: &quot\;Times New Roman&quot\;\; mso-ansi-language: EN-US\; mso-fareast-language: EN-US\; mso-bidi-language: AR-SA\;">Royals Nights!</span><strong><span style="font-size: 10.5pt\; font-weight: normal\; mso-fareast-font-family: &quot\;Times New Roman&quot\;\; mso-ansi-language: EN-US\; mso-fareast-language: EN-US\; mso-bidi-language: AR-SA\;"><font color="#000000"> &nbsp\;We are the place to watch </font></span></strong></font><u><span style="font-family: &quot\;Times New Roman&quot\;\,&quot\;serif&quot\;\; font-size: 10.5pt\; mso-fareast-font-family: &quot\;Times New Roman&quot\;\; mso-ansi-language: EN-US\; mso-fareast-language: EN-US\; mso-bidi-language: AR-SA\;"><font color="#000000">and hear</font></span></u><font face="Times New Roman"><strong><span style="font-size: 10.5pt\; font-weight: normal\; mso-fareast-font-family: &quot\;Times New Roman&quot\;\; mso-ansi-language: EN-US\; mso-fareast-language: EN-US\; mso-bidi-language: AR-SA\;"><font color="#000000"> the games! Our larger flat panel is in place\, and we have the acoustics that allow you to follow the sportscasters on FoxSportsKC. Our bar is a nice place for viewing--and also enjoy some game-time food (carry-in is welcome)!&nbsp\;We&#39\;ll stay open late on </font></span></strong><em><span style="font-size: 10.5pt\; mso-fareast-font-family: &quot\;Times New Roman&quot\;\; mso-ansi-language: EN-US\; mso-fareast-language: EN-US\; mso-bidi-language: AR-SA\;"><font color="#000000">Fridays in June</font></span></em><strong><span style="font-size: 10.5pt\; font-weight: normal\; mso-fareast-font-family: &quot\;Times New Roman&quot\;\; mso-ansi-language: EN-US\; mso-fareast-language: EN-US\; mso-bidi-language: AR-SA\;"><font color="#000000">: 5th (Texas at KC)\, 12th&nbsp\;(at St. Louis)\, 19th (Boston at KC)\, and 26th (at Oakland). Celebrate homeruns with some spirits from Of The Earth (we&#39\;re looking at Jim Pierce&#39\;s cocktail ideas).&nbsp\;</font><span style="color: blue\;">&nbsp\;Let&#39\;s Go\, Royals!&nbsp\;&nbsp\;</span></span></strong></font>
LOCATION:Grain to Glass 1611 Swift
UID:e.211.4625
SEQUENCE:3
DTSTAMP:20260424T095014Z
URL:https://members.nkcbusinesscouncil.com/events/details/grain-to-glass-royals-night-06-26-2015-4625
END:VEVENT

END:VCALENDAR
