BEGIN:VCALENDAR
VERSION:2.0
PRODID:-//ChamberMaster//Event Calendar 2.0//EN
METHOD:PUBLISH
X-PUBLISHED-TTL:P3D
REFRESH-INTERVAL:P3D
CALSCALE:GREGORIAN
BEGIN:VEVENT
DTSTART:20151017T200000Z
DTEND:20151017T230000Z
X-MICROSOFT-CDO-ALLDAYEVENT:FALSE
SUMMARY:Grain to Glass Oktoberfest
DESCRIPTION:Oktoberfest: In our first year of business\, we hosted an Oktoberfest (along with a homebrew competition).  We're going to bring back the party-part\, and offer brats and sauerkraut--and some beers and ciders on Saturday\, October 17th\, 3-6 PM.  We'll also have German music--and polka for those that like to dance!  Wear your lederhosen and dirndls!
X-ALT-DESC;FMTTYPE=text/html:<h2 style="margin: 0.1pt 0in 0.05pt\;"><strong><u><span style="color: brown\; font-size: 11.5pt\; mso-fareast-font-family: &quot\;Times New Roman&quot\;\;">Oktoberfest:</span></u><span style="color: brown\; font-size: 11.5pt\; mso-fareast-font-family: &quot\;Times New Roman&quot\;\;">&nbsp\;</span><span style="font-size: 10.5pt\; mso-fareast-font-family: &quot\;Times New Roman&quot\;\;"><font color="#404040">In our first year of business\, we hosted an Oktoberfest (along with a homebrew competition). &nbsp\;We&#39\;re going to bring back the party-part\, and offer brats and sauerkraut--and some beers and ciders&nbsp\;on </font></span><u><span style="color: brown\; font-size: 10.5pt\; mso-fareast-font-family: &quot\;Times New Roman&quot\;\;">Saturday\, October 17th\, 3-6 PM</span></u><font color="#404040"><span style="font-size: 10.5pt\; mso-fareast-font-family: &quot\;Times New Roman&quot\;\;">. &nbsp\;We&#39\;ll also have German music--and polka for those that like to dance! &nbsp\;Wear your lederhosen and dirndls!</span><span style="mso-fareast-font-family: &quot\;Times New Roman&quot\;\;"><o:p></o:p></span></font></strong></h2>\n
LOCATION:Grain to Glass 1611 Swift
UID:e.211.4661
SEQUENCE:3
DTSTAMP:20260424T050455Z
URL:https://members.nkcbusinesscouncil.com/events/details/grain-to-glass-oktoberfest-10-17-2015-4661
END:VEVENT

END:VCALENDAR
