BEGIN:VCALENDAR
VERSION:2.0
PRODID:-//ChamberMaster//Event Calendar 2.0//EN
METHOD:PUBLISH
X-PUBLISHED-TTL:P3D
REFRESH-INTERVAL:P3D
CALSCALE:GREGORIAN
BEGIN:VEVENT
DTSTART:20150808T200000Z
DTEND:20150808T230000Z
X-MICROSOFT-CDO-ALLDAYEVENT:FALSE
SUMMARY:Grain to Glass - Homebrewing for Beginners
DESCRIPTION:Our August "Homebrewing for Beginners" class is Saturday\, August 8th\, 3-6 PM. This class is all-inclusive\, meaning we brew a batch\, and also bottle a previously fermented brew--everyone takes home bottles.  The class is limited to twelve people\; the cost is $50 for the 3-Hour class\, and you receive a $10 discount on equipment purchase the night of class. And\, each participant receives a detailed 2-page handout to follow during our class--and for use at home\, to become confident brewers.  We've taught over 200 the basics of homebrewing in 2 1/2 years. Classes fill quickly!  Pass the word along to friends who have been interested in learning to brew!  Payment is made online through Brown Paper Tickets.
X-ALT-DESC;FMTTYPE=text/html:<span style="font-family: &quot\;Times New Roman&quot\;\,&quot\;serif&quot\;\; font-size: 10.5pt\; mso-fareast-font-family: &quot\;Times New Roman&quot\;\; mso-ansi-language: EN-US\; mso-fareast-language: EN-US\; mso-bidi-language: AR-SA\;"><font color="#000000">Our August&nbsp\;&quot\;<strong><span style="font-weight: normal\;">Homebrewing for Beginners</span></strong>&quot\; class is&nbsp\;<strong><span style="font-weight: normal\;">Saturday\, August 8th\, 3-6 PM</span></strong>. This class is all-inclusive\, meaning we brew a batch\, and also bottle a previously fermented brew--everyone takes home bottles. &nbsp\;The class is limited to twelve people\; the cost is $50 for the 3-Hour class\, and <u>you receive a $10 discount on equipment purchase the night of class</u>. And\, each participant receives a detailed 2-page handout to follow during our class--and for use at home\, to become confident brewers. &nbsp\;We&#39\;ve taught over 200 the basics of homebrewing in 2 1/2 years. Classes fill quickly!&nbsp\; Pass the word along to friends who have been interested in learning to brew! &nbsp\;Payment is made online through Brown Paper Tickets.</font></span>
LOCATION:Grain to Glass 1611 Swift
UID:e.211.4640
SEQUENCE:3
DTSTAMP:20260424T072012Z
URL:https://members.nkcbusinesscouncil.com/events/details/grain-to-glass-homebrewing-for-beginners-08-08-2015-4640
END:VEVENT

END:VCALENDAR
