BEGIN:VCALENDAR
VERSION:2.0
PRODID:-//ChamberMaster//Event Calendar 2.0//EN
METHOD:PUBLISH
X-PUBLISHED-TTL:P3D
REFRESH-INTERVAL:P3D
CALSCALE:GREGORIAN
BEGIN:VEVENT
DTSTART:20160204T010000Z
DTEND:20160204T040000Z
X-MICROSOFT-CDO-ALLDAYEVENT:FALSE
SUMMARY:Grain to Glass - Homebrewing for Beginners
DESCRIPTION:The three-hour classes are hands-on brewing and bottling--and every body takes home the two-page handout and bottled beers.  We also discuss beer styles\, with samples of brews made from our own kits. The cost is $50\, and entitles participants to a $10 discount on the purchase of equipment at the end of class. Class is limited to twelve\; signup links below.  Private classes can also be arranged for groups of 4-12.
X-ALT-DESC;FMTTYPE=text/html:<span style="font-family: &quot\;Times New Roman&quot\;\,&quot\;serif&quot\;\; font-size: 10.5pt\; mso-fareast-font-family: &quot\;Times New Roman&quot\;\; mso-ansi-language: EN-US\; mso-fareast-language: EN-US\; mso-bidi-language: AR-SA\;"><font color="#000000">&nbsp\;The three-hour classes are hands-on brewing and bottling--and every body takes home the two-page handout and bottled beers.&nbsp\; We also discuss beer styles\, with samples of brews made from our own kits. The cost is $50\, and entitles participants to a $10 discount on the purchase of equipment at the end of class. Class is limited to twelve\; signup links below.&nbsp\; Private classes can also be arranged for groups of 4-12.</font></span>
LOCATION:Grain to Glass 1611 Swift
UID:e.211.4693
SEQUENCE:3
DTSTAMP:20260424T001255Z
URL:https://members.nkcbusinesscouncil.com/events/details/grain-to-glass-homebrewing-for-beginners-02-03-2016-4693
END:VEVENT

END:VCALENDAR
