BEGIN:VCALENDAR
VERSION:2.0
PRODID:-//ChamberMaster//Event Calendar 2.0//EN
METHOD:PUBLISH
X-PUBLISHED-TTL:P3D
REFRESH-INTERVAL:P3D
CALSCALE:GREGORIAN
BEGIN:VEVENT
DTSTART:20130816T130000Z
DTEND:20130816T200000Z
X-MICROSOFT-CDO-ALLDAYEVENT:FALSE
SUMMARY:Golf Fore Gilda
DESCRIPTION:This four person scramble golf tournament is a benefit for Gilda's Club of Kansas City.\n\n\n\nGilda's Club is a non-profit serving the entire Kansas City metro community\, so that no one faces cancer alone.
X-ALT-DESC;FMTTYPE=text/html:This four person scramble golf tournament is a benefit for Gilda&#39\;s Club of Kansas City.<br />\n<br />\nGilda&#39\;s Club is a non-profit serving the entire Kansas City metro community\, so that no one faces cancer alone.
LOCATION:Hillcrest Country Club 8200 Hillcrest Road Kansas City\, MO 64138
UID:e.211.3542
SEQUENCE:3
DTSTAMP:20260425T163256Z
URL:https://members.nkcbusinesscouncil.com/events/details/golf-fore-gilda-08-16-2013-3542
END:VEVENT

END:VCALENDAR
