BEGIN:VCALENDAR
VERSION:2.0
PRODID:-//ChamberMaster//Event Calendar 2.0//EN
METHOD:PUBLISH
X-PUBLISHED-TTL:P3D
REFRESH-INTERVAL:P3D
CALSCALE:GREGORIAN
BEGIN:VEVENT
DTSTART:20160722T003000Z
DTEND:20160722T040000Z
X-MICROSOFT-CDO-ALLDAYEVENT:FALSE
SUMMARY:Gladstone Community Center Health Fair
DESCRIPTION:North Kansas City Hospital health professionals invite you to come discuss your health concerns at the Gladstone Community Center. We'll perform a fasting lipid blood test (total cholesterol\, HDL\, LDL and triglycerides) and check your blood pressure. You can chat one-on-one with a doctor\, who will review your results and answer your health-related questions.
X-ALT-DESC;FMTTYPE=text/html:<span style="font-size: medium\;"><span style="font-family: calibri\;"><span style="font-size: 12pt\;">North Kansas City Hospital health professionals invite you to come discuss your health concerns at the Gladstone Community Center. </span></span>We&rsquo\;ll perform a fasting lipid blood test (total cholesterol\, HDL\, LDL and triglycerides) and check your blood pressure. You can chat one-on-one with a doctor\, who will review your results and answer your health-related questions.</span><br />\n&nbsp\;
LOCATION:Gladstone Community Health Center\, 6901 N Holmes St.\, Gladstone\, MO 64118
UID:e.211.5134
SEQUENCE:3
DTSTAMP:20260423T112737Z
URL:https://members.nkcbusinesscouncil.com/events/details/gladstone-community-center-health-fair-07-21-2016-5134
END:VEVENT

END:VCALENDAR
