BEGIN:VCALENDAR
VERSION:2.0
PRODID:-//ChamberMaster//Event Calendar 2.0//EN
METHOD:PUBLISH
X-PUBLISHED-TTL:P3D
REFRESH-INTERVAL:P3D
CALSCALE:GREGORIAN
BEGIN:VEVENT
DTSTART:20151116T133000Z
DTEND:20151116T150000Z
X-MICROSOFT-CDO-ALLDAYEVENT:FALSE
SUMMARY:GEW Coffee Shop Kickoff Parties
DESCRIPTION:Entrepreneurs\, small business owners\, companies and anyone in between is invited to attend Networking in Your Neighborhood to kickoff Global Entrepreneurship Week in Kansas City. GEW is a collaborative\, open-source environment in which local organizations create events that enhance the local community of entrepreneurs. Come out\, meet someone new and plan your week of celebrating local innovators and job creators. Don't forget to join the conversation #GEWKC.
X-ALT-DESC;FMTTYPE=text/html:Entrepreneurs\, small business owners\, companies and anyone in between is invited to attend Networking in Your Neighborhood to kickoff Global Entrepreneurship Week in Kansas City. GEW is a collaborative\, open-source environment in which local organizations create events that enhance the local community of entrepreneurs. Come out\, meet someone new and plan your week of celebrating local innovators and job creators. Don&rsquo\;t forget to join the conversation #GEWKC.
LOCATION:First Watch
UID:e.211.4677
SEQUENCE:3
DTSTAMP:20260424T035509Z
URL:https://members.nkcbusinesscouncil.com/events/details/gew-coffee-shop-kickoff-parties-11-16-2015-4677
END:VEVENT

END:VCALENDAR
