BEGIN:VCALENDAR
VERSION:2.0
PRODID:-//ChamberMaster//Event Calendar 2.0//EN
METHOD:PUBLISH
X-PUBLISHED-TTL:P3D
REFRESH-INTERVAL:P3D
CALSCALE:GREGORIAN
BEGIN:VEVENT
DTSTART:20161026T000000Z
DTEND:20161026T020000Z
X-MICROSOFT-CDO-ALLDAYEVENT:FALSE
SUMMARY:Geeks who Drink Trivia
DESCRIPTION:Stop by for a beer and some Trivia every Tuesday night at Cinder Black Brewery.
X-ALT-DESC;FMTTYPE=text/html:Stop by for a beer and some Trivia every Tuesday night at Cinder Black Brewery.
LOCATION:Cinder Block Brewery
UID:e.211.4894
SEQUENCE:3
DTSTAMP:20260422T235422Z
URL:https://members.nkcbusinesscouncil.com/events/details/geeks-who-drink-trivia-10-25-2016-4894
END:VEVENT

END:VCALENDAR
