BEGIN:VCALENDAR
VERSION:2.0
PRODID:-//ChamberMaster//Event Calendar 2.0//EN
METHOD:PUBLISH
X-PUBLISHED-TTL:P3D
REFRESH-INTERVAL:P3D
CALSCALE:GREGORIAN
BEGIN:VEVENT
DTSTART:20160803T000000Z
DTEND:20160803T020000Z
X-MICROSOFT-CDO-ALLDAYEVENT:FALSE
SUMMARY:Geeks who Drink Trivia
DESCRIPTION:Stop by for a beer and some Trivia every Tuesday night at Cinder Black Brewery.
X-ALT-DESC;FMTTYPE=text/html:Stop by for a beer and some Trivia every Tuesday night at Cinder Black Brewery.
LOCATION:Cinder Block Brewery
UID:e.211.4882
SEQUENCE:3
DTSTAMP:20260423T070627Z
URL:https://members.nkcbusinesscouncil.com/events/details/geeks-who-drink-trivia-08-02-2016-4882
END:VEVENT

END:VCALENDAR
