BEGIN:VCALENDAR
VERSION:2.0
PRODID:-//ChamberMaster//Event Calendar 2.0//EN
METHOD:PUBLISH
X-PUBLISHED-TTL:P3D
REFRESH-INTERVAL:P3D
CALSCALE:GREGORIAN
BEGIN:VEVENT
DTSTART:20130828T163000Z
DTEND:20130828T173000Z
X-MICROSOFT-CDO-ALLDAYEVENT:FALSE
SUMMARY:Gardens at Northgate Village 3rd phase Grand Opening
DESCRIPTION:Stop by for some lunch and  a tour at the Grand Opening Celebration of The Gardens at Northgate Village's 3rd phase building.\n\nFood and drinks will be provided as part of the celebration.
X-ALT-DESC;FMTTYPE=text/html:Stop by for some&nbsp\;lunch and &nbsp\;a tour at the Grand Opening Celebration of The Gardens at Northgate Village&#39\;s 3rd phase building.<br />\nFood and drinks will be provided as part of the celebration.
LOCATION:In the Courtyard/Lobby of 2800 Cityview Drive
UID:e.211.3541
SEQUENCE:3
DTSTAMP:20260425T152923Z
URL:https://members.nkcbusinesscouncil.com/events/details/gardens-at-northgate-village-3rd-phase-grand-opening-08-28-2013-3541
END:VEVENT

END:VCALENDAR
