BEGIN:VCALENDAR
VERSION:2.0
PRODID:-//ChamberMaster//Event Calendar 2.0//EN
METHOD:PUBLISH
X-PUBLISHED-TTL:P3D
REFRESH-INTERVAL:P3D
CALSCALE:GREGORIAN
BEGIN:VEVENT
DTSTART:20150711T000000Z
DTEND:20150711T020000Z
X-MICROSOFT-CDO-ALLDAYEVENT:FALSE
SUMMARY:Friday Night Concerts
DESCRIPTION:Big Time Grain Company will be performing at this month's FREE Friday Night Concert sponsored by the City of North Kansas City and the North Kansas City Parks and Recreation Department.
X-ALT-DESC;FMTTYPE=text/html:Big&nbsp\;Time Grain Company&nbsp\;will be performing at this month&#39\;s FREE Friday Night Concert sponsored by the City of North Kansas City and the North Kansas City Parks and Recreation Department.
LOCATION:Macken Park Festival Pavilion
UID:e.211.4635
SEQUENCE:3
DTSTAMP:20260424T083355Z
URL:https://members.nkcbusinesscouncil.com/events/details/friday-night-concerts-07-10-2015-4635
END:VEVENT

END:VCALENDAR
