BEGIN:VCALENDAR
VERSION:2.0
PRODID:-//ChamberMaster//Event Calendar 2.0//EN
METHOD:PUBLISH
X-PUBLISHED-TTL:P3D
REFRESH-INTERVAL:P3D
CALSCALE:GREGORIAN
BEGIN:VEVENT
DTSTART:20160611T000000Z
DTEND:20160611T020000Z
X-MICROSOFT-CDO-ALLDAYEVENT:FALSE
SUMMARY:Friday Night Concerts
DESCRIPTION:Soulroot will be performing at this month's FREE Friday Night Concert sponsored by the City of North Kansas City and the North Kansas City Parks and Recreation Department.
X-ALT-DESC;FMTTYPE=text/html:Soulroot&nbsp\;will be performing at this month&#39\;s FREE Friday Night Concert sponsored by the City of North Kansas City and the North Kansas City Parks and Recreation Department.
LOCATION:Macken Park Festival Pavilion
UID:e.211.5123
SEQUENCE:3
DTSTAMP:20260423T111406Z
URL:https://members.nkcbusinesscouncil.com/events/details/friday-night-concerts-06-10-2016-5123
END:VEVENT

END:VCALENDAR
