BEGIN:VCALENDAR
VERSION:2.0
PRODID:-//ChamberMaster//Event Calendar 2.0//EN
METHOD:PUBLISH
X-PUBLISHED-TTL:P3D
REFRESH-INTERVAL:P3D
CALSCALE:GREGORIAN
BEGIN:VEVENT
DTSTART:20160701T163000Z
DTEND:20160701T180000Z
X-MICROSOFT-CDO-ALLDAYEVENT:FALSE
SUMMARY:Friday in the Park Concert
DESCRIPTION:Friday in the Park will have the Patriotic sounds of the Blue & Gray Brass Brigade at North Kansas City's Festival Pavilion in Macken Park from 11:30 AM to 1:00 PM. All concerts are free and open to the public\, and every event features a drawing for prizes donated by local businesses. \n\n \n\nLive music and fun is a 38 year tradition at the Festival Pavilion.  There is plenty of parking\, playgrounds\, restrooms and the park is completely handicap accessible.   \n\nSponsored by the City of North Kansas City.
X-ALT-DESC;FMTTYPE=text/html:<span style="-ms-layout-grid-mode: line\;"><span style="font-size: 14pt\;"><span style="font-family: arial\,sans-serif\;"><span style="font-size: 12px\;">Friday in the Park will&nbsp\;have the&nbsp\;Patriotic sounds of&nbsp\;the Blue &amp\; Gray Brass Brigade&nbsp\;at North Kansas City&#39\;s Festival Pavilion in Macken Park from 11:30 AM to 1:00 PM. All concerts are free and open to the public\, and every event features a drawing for prizes donated by local businesses. </span></span></span></span><br />\n<span style="font-size: 12px\;">&nbsp\;</span><br />\n<span style="-ms-layout-grid-mode: line\;"><span style="font-size: 14pt\;"><span style="font-family: arial\,sans-serif\;"><span style="font-size: 12px\;">Live music and fun is a 38 year tradition at the Festival Pavilion.&nbsp\; There is plenty of parking\, playgrounds\, restrooms and the park is completely handicap accessible.&nbsp\;&nbsp\;&nbsp\;</span></span></span></span><br />\n<span style="font-size: 12px\;"><span style="-ms-layout-grid-mode: line\;"><span style="font-family: arial\,sans-serif\;">Sponsored by the City of North Kansas City.</span></span></span>
LOCATION:Festival Pavilion at Macken Park
UID:e.211.5082
SEQUENCE:3
DTSTAMP:20260423T111946Z
URL:https://members.nkcbusinesscouncil.com/events/details/friday-in-the-park-concert-07-01-2016-5082
END:VEVENT

END:VCALENDAR
