BEGIN:VCALENDAR
VERSION:2.0
PRODID:-//ChamberMaster//Event Calendar 2.0//EN
METHOD:PUBLISH
X-PUBLISHED-TTL:P3D
REFRESH-INTERVAL:P3D
CALSCALE:GREGORIAN
BEGIN:VEVENT
DTSTART:20140926T163000Z
DTEND:20140926T180000Z
X-MICROSOFT-CDO-ALLDAYEVENT:FALSE
SUMMARY:Friday in the Park
DESCRIPTION:Rythmia will be performing.
X-ALT-DESC;FMTTYPE=text/html:Rythmia will be performing.
LOCATION:Macken Park Festival Pavilion
UID:e.211.4251
SEQUENCE:3
DTSTAMP:20260424T224645Z
URL:https://members.nkcbusinesscouncil.com/events/details/friday-in-the-park-09-26-2014-4251
END:VEVENT

END:VCALENDAR
