BEGIN:VCALENDAR
VERSION:2.0
PRODID:-//ChamberMaster//Event Calendar 2.0//EN
METHOD:PUBLISH
X-PUBLISHED-TTL:P3D
REFRESH-INTERVAL:P3D
CALSCALE:GREGORIAN
BEGIN:VEVENT
DTSTART:20140912T163000Z
DTEND:20140912T180000Z
X-MICROSOFT-CDO-ALLDAYEVENT:FALSE
SUMMARY:Friday in the Park
DESCRIPTION:Marimba sol de Chiapas will be performing.
X-ALT-DESC;FMTTYPE=text/html:Marimba sol de Chiapas will be performing.
LOCATION:Macken Park Festival Pavilion
UID:e.211.4249
SEQUENCE:3
DTSTAMP:20260424T213509Z
URL:https://members.nkcbusinesscouncil.com/events/details/friday-in-the-park-09-12-2014-4249
END:VEVENT

END:VCALENDAR
