BEGIN:VCALENDAR
VERSION:2.0
PRODID:-//ChamberMaster//Event Calendar 2.0//EN
METHOD:PUBLISH
X-PUBLISHED-TTL:P3D
REFRESH-INTERVAL:P3D
CALSCALE:GREGORIAN
BEGIN:VEVENT
DTSTART:20150313T133000Z
DTEND:20150313T150000Z
X-MICROSOFT-CDO-ALLDAYEVENT:FALSE
SUMMARY:Free Small Business Bootcamp
DESCRIPTION:Mid-Continent Public Library is offering a special Small Business Bootcamp focusing on marketing businesses for new entrepreneurs in the Kansas City area. Doors open at 8:30 a.m. for networking at the Woodneath Library Center. Keynote speaker Joe Roetheli\, CEO of the Greenies Company\, will share his entrepreneurial story and what has guided him to success starting at 9 a.m.\n\n \n\nNumerous organizations that assist small businesses will be present to share resource information\, and local entrepreneurs will host breakout sessions offering tips and tricks on different marketing platforms. Special speakers include:\n\n \n\nMark Werner\, Turn the Page Online Marketing- Mark is an Online Marketing Strategist with a strong background in sales and retail advertising. He has a proven track record of increasing revenues of the organizations with which he's been involved.\n\n \n\nRebecca Gubbels\, UMKC Small Business and Technology Development Center- Rebecca works as a consultant/coach for entrepreneurs and has a background in the banking industry. Amongst her many specialties are financial analysis\, business operations\, and process improvement. \n\n \n\nRobert Boyle\, Justine PETERSEN- As Founder and CEO\, Robert has a mission to help low-wealth families make and sustain financial gains. He has a background in property management and urban planning\, as well as multi-faceted housing development and construction management.\n\n \n\nStephanie Zamora\, Assurance Security- Stephanie is CEO and conductor of a commercial electronics and security surveillance company. She has close ties to the local business community because of her background working with entrepreneurs through the Independence EDC\, the Ennovation Center\, and KCSourcelink.\n\n \n\nPresented by Mid-Continent Public Library and the Clay County Economic Development Council. \n\nRegistration is free and required.
X-ALT-DESC;FMTTYPE=text/html:<span style="font-size: 12pt\;"><span style="font-family: garamond\,serif\;">Mid-Continent Public Library is offering a special Small Business Bootcamp focusing on marketing businesses for new entrepreneurs in the Kansas City area. Doors open at 8:30 a.m. for networking at the Woodneath Library Center. Keynote speaker Joe Roetheli\, CEO of the Greenies Company\, will share his entrepreneurial story and what has guided him to success starting at 9 a.m.</span></span><br />\n&nbsp\;<br />\n<span style="font-size: 12pt\;"><span style="font-family: garamond\,serif\;">Numerous organizations that assist small businesses will be present to share resource information\, and local entrepreneurs will host breakout sessions offering tips and tricks on different marketing platforms. Special speakers include:</span></span><br />\n&nbsp\;<br />\n<strong><span style="font-size: 12pt\;"><span style="font-family: garamond\,serif\;">Mark Werner</span></span></strong><span style="font-size: 12pt\;"><span style="font-family: garamond\,serif\;">\, Turn the Page Online Marketing- Mark is an Online Marketing Strategist with a strong background in sales and retail advertising. He has a proven track record of increasing revenues of the organizations with which he&rsquo\;s been involved.</span></span><br />\n&nbsp\;<br />\n<strong><span style="font-size: 12pt\;"><span style="font-family: garamond\,serif\;">Rebecca Gubbels</span></span></strong><span style="font-size: 12pt\;"><span style="font-family: garamond\,serif\;">\, UMKC Small Business and Technology Development Center- Rebecca works as a consultant/coach for entrepreneurs and has a background in the banking industry. Amongst her many specialties are financial analysis\, business operations\, and process improvement. </span></span><br />\n&nbsp\;<br />\n<strong><span style="font-size: 12pt\;"><span style="font-family: garamond\,serif\;">Robert Boyle</span></span></strong><span style="font-size: 12pt\;"><span style="font-family: garamond\,serif\;">\, Justine PETERSEN- As Founder and CEO\, Robert has a mission to help low-wealth families make and sustain financial gains. He has a background in property management and urban planning\, as well as multi-faceted housing development and construction management.</span></span><br />\n&nbsp\;<br />\n<strong><span style="font-size: 12pt\;"><span style="font-family: garamond\,serif\;">Stephanie Zamora</span></span></strong><span style="font-size: 12pt\;"><span style="font-family: garamond\,serif\;">\, Assurance Security- Stephanie is CEO and conductor of a commercial electronics and security surveillance company. She has close ties to the local business community because of her background working with entrepreneurs through the Independence EDC\, the Ennovation Center\, and KCSourcelink.</span></span><br />\n&nbsp\;<br />\n<span style="font-size: 12pt\;"><span style="font-family: garamond\,serif\;">Presented by Mid-Continent Public Library and the Clay County Economic Development Council. </span></span><br />\n<span style="font-size: 12pt\;"><span style="font-family: garamond\,serif\;">Registration is free and required.</span></span><br />\n&nbsp\;
LOCATION:8900 North Flintlock Road Kansas City\, MO 64157
UID:e.211.4409
SEQUENCE:3
DTSTAMP:20260424T145115Z
URL:https://members.nkcbusinesscouncil.com/events/details/free-small-business-bootcamp-03-13-2015-4409
END:VEVENT

END:VCALENDAR
