BEGIN:VCALENDAR
VERSION:2.0
PRODID:-//ChamberMaster//Event Calendar 2.0//EN
METHOD:PUBLISH
X-PUBLISHED-TTL:P3D
REFRESH-INTERVAL:P3D
CALSCALE:GREGORIAN
BEGIN:VEVENT
DTSTART:20130417T230000Z
DTEND:20130418T010000Z
X-MICROSOFT-CDO-ALLDAYEVENT:FALSE
SUMMARY:Free Beer tasting
DESCRIPTION:Pat's Pub is offering a free tasting of Tall Grass Brewery beers.
X-ALT-DESC;FMTTYPE=text/html:Pat&#39\;s Pub&nbsp\;is offering a free tasting of Tall Grass Brewery beers.
LOCATION:1315 Swift
UID:e.211.3526
SEQUENCE:3
DTSTAMP:20260425T224839Z
URL:https://members.nkcbusinesscouncil.com/events/details/free-beer-tasting-04-17-2013-3526
END:VEVENT

END:VCALENDAR
