BEGIN:VCALENDAR
VERSION:2.0
PRODID:-//ChamberMaster//Event Calendar 2.0//EN
METHOD:PUBLISH
X-PUBLISHED-TTL:P3D
REFRESH-INTERVAL:P3D
CALSCALE:GREGORIAN
BEGIN:VEVENT
DTSTART:20150717T160000Z
DTEND:20150717T180000Z
X-MICROSOFT-CDO-ALLDAYEVENT:FALSE
SUMMARY:Food Truck Friday
DESCRIPTION:Helzberg Diamonds will be coordinating "Food Truck Fridays" in North Kansas City during lunch on July 17th\, August 28th and October 2nd. These will be events open to anyone. Be on the lookout for the trucks near the Helzberg Diamonds' corporate office parking lot (1825 Swift) this Friday!
X-ALT-DESC;FMTTYPE=text/html:<span style="font-size: medium\;"><span style="font-family: times new roman\;">Helzberg Diamonds will be coordinating &ldquo\;Food Truck Fridays&rdquo\; in North Kansas City during lunch on July 17<sup><span style="font-size: small\;">th</span></sup>\, August 28<sup><span style="font-size: small\;">th</span></sup> and October 2<sup><span style="font-size: small\;">nd</span></sup>. These will be events open to anyone. Be on the lookout for the trucks near the Helzberg Diamonds&rsquo\; corporate office parking lot (1825 Swift) this Friday! </span></span><br />\n&nbsp\;
LOCATION:Helzberg Diamonds Parking Lot 1825 Swift
UID:e.211.4636
SEQUENCE:3
DTSTAMP:20260424T095152Z
URL:https://members.nkcbusinesscouncil.com/events/details/food-truck-friday-07-17-2015-4636
END:VEVENT

END:VCALENDAR
