BEGIN:VCALENDAR
VERSION:2.0
PRODID:-//ChamberMaster//Event Calendar 2.0//EN
METHOD:PUBLISH
X-PUBLISHED-TTL:P3D
REFRESH-INTERVAL:P3D
CALSCALE:GREGORIAN
BEGIN:VEVENT
DTSTART:20130905T210000Z
DTEND:20130906T000000Z
X-MICROSOFT-CDO-ALLDAYEVENT:FALSE
SUMMARY:First Missouri Bank Ribbon Cutting
DESCRIPTION:We will be cutting the ribbon and celebrating the newest location of First Missouri Bank in North Kansas City.\n\nStop by\, say hello and see their new facility.
X-ALT-DESC;FMTTYPE=text/html:<span style="font-size: 14px\;">We will be cutting the ribbon and celebrating the newest location of First Missouri Bank in North Kansas City.<br />\nStop by\, say hello and see their new facility.</span>
LOCATION:1925 Burlington
UID:e.211.3540
SEQUENCE:3
DTSTAMP:20260425T140522Z
URL:https://members.nkcbusinesscouncil.com/events/details/first-missouri-bank-ribbon-cutting-09-05-2013-3540
END:VEVENT

END:VCALENDAR
