BEGIN:VCALENDAR
VERSION:2.0
PRODID:-//ChamberMaster//Event Calendar 2.0//EN
METHOD:PUBLISH
X-PUBLISHED-TTL:P3D
REFRESH-INTERVAL:P3D
CALSCALE:GREGORIAN
BEGIN:VEVENT
DTSTART:20161202T133000Z
DTEND:20161202T150000Z
X-MICROSOFT-CDO-ALLDAYEVENT:FALSE
SUMMARY:First Friday Coffee
DESCRIPTION:There will be no First Friday Coffee this month.
X-ALT-DESC;FMTTYPE=text/html:There will be no First Friday Coffee this month.
LOCATION:
UID:e.211.4722
SEQUENCE:3
DTSTAMP:20260422T113333Z
URL:https://members.nkcbusinesscouncil.com/events/details/first-friday-coffee-12-02-2016-4722
END:VEVENT

END:VCALENDAR
