BEGIN:VCALENDAR
VERSION:2.0
PRODID:-//ChamberMaster//Event Calendar 2.0//EN
METHOD:PUBLISH
X-PUBLISHED-TTL:P3D
REFRESH-INTERVAL:P3D
CALSCALE:GREGORIAN
BEGIN:VEVENT
DTSTART:20151106T133000Z
DTEND:20151106T150000Z
X-MICROSOFT-CDO-ALLDAYEVENT:FALSE
SUMMARY:First Friday Coffee
DESCRIPTION:Join us for coffee and networking at one of our local business hosts.
X-ALT-DESC;FMTTYPE=text/html:Join us for coffee and networking at one of our local business hosts.
LOCATION:iWerx 1501 Burlington
UID:e.211.4313
SEQUENCE:3
DTSTAMP:20260424T044959Z
URL:https://members.nkcbusinesscouncil.com/events/details/first-friday-coffee-11-06-2015-4313
END:VEVENT

END:VCALENDAR
