BEGIN:VCALENDAR
VERSION:2.0
PRODID:-//ChamberMaster//Event Calendar 2.0//EN
METHOD:PUBLISH
X-PUBLISHED-TTL:P3D
REFRESH-INTERVAL:P3D
CALSCALE:GREGORIAN
BEGIN:VEVENT
DTSTART:20161104T123000Z
DTEND:20161104T140000Z
X-MICROSOFT-CDO-ALLDAYEVENT:FALSE
SUMMARY:First Friday Coffee
DESCRIPTION:Join us for coffee and networking at one of our local business hosts.
X-ALT-DESC;FMTTYPE=text/html:Join us for coffee and networking at one of our local business hosts.
LOCATION:Life Unlimited (Concerned Care\, Inc.) 320 Armour Road\, Suite 101
UID:e.211.4721
SEQUENCE:3
DTSTAMP:20260422T154101Z
URL:https://members.nkcbusinesscouncil.com/events/details/first-friday-coffee-11-04-2016-4721
END:VEVENT

END:VCALENDAR
