BEGIN:VCALENDAR
VERSION:2.0
PRODID:-//ChamberMaster//Event Calendar 2.0//EN
METHOD:PUBLISH
X-PUBLISHED-TTL:P3D
REFRESH-INTERVAL:P3D
CALSCALE:GREGORIAN
BEGIN:VEVENT
DTSTART:20131101T121500Z
DTEND:20131101T140000Z
X-MICROSOFT-CDO-ALLDAYEVENT:FALSE
SUMMARY:First Friday Coffee
DESCRIPTION:eSupply  will be our host this month
X-ALT-DESC;FMTTYPE=text/html:eSupply&nbsp\; will be our host this month
LOCATION:1540 Atlantic
UID:e.211.241
SEQUENCE:3
DTSTAMP:20260425T110121Z
URL:https://members.nkcbusinesscouncil.com/events/details/first-friday-coffee-11-01-2013-241
END:VEVENT

END:VCALENDAR
