BEGIN:VCALENDAR
VERSION:2.0
PRODID:-//ChamberMaster//Event Calendar 2.0//EN
METHOD:PUBLISH
X-PUBLISHED-TTL:P3D
REFRESH-INTERVAL:P3D
CALSCALE:GREGORIAN
BEGIN:VEVENT
DTSTART:20131004T121500Z
DTEND:20131004T140000Z
X-MICROSOFT-CDO-ALLDAYEVENT:FALSE
SUMMARY:First Friday Coffee
DESCRIPTION:Join us at liNKCity for some coffee and snacks to start your day off right.
X-ALT-DESC;FMTTYPE=text/html:Join us&nbsp\;at liNKCity for some coffee and snacks to start your day off right.
LOCATION:312 Armour
UID:e.211.240
SEQUENCE:3
DTSTAMP:20260425T134927Z
URL:https://members.nkcbusinesscouncil.com/events/details/first-friday-coffee-10-04-2013-240
END:VEVENT

END:VCALENDAR
